BEGIN:VCALENDAR
VERSION:2.0
PRODID:-//hacksw/handcal//NONSGML v1.0//EN
BEGIN:VEVENT
SUMMARY:Stephane	"Cattlar Dpt village"	8h	9 €	5h30	19km	900m	****	Cattlar, Fosset, col de Tribes, Dolmens
UID:373d014e-ae5e-4dd3-b328-8e4d582d87af
DTSTART:20260419T060000Z
DTEND:20260419T220000Z
LOCATION:Localisation   
CATEGORIES:Sportif
STATUS:
URL;VALUE=URI:https://www.st-cyp-randos.fr/evenements/2026/04/19/stephane-cattlar-dpt-village-8h-9-eur-5h30-19km-900m-cattlar-fosset-col-de-tribes-dolmens-2438543
END:VEVENT
END:VCALENDAR
