BEGIN:VCALENDAR
VERSION:2.0
PRODID:-//hacksw/handcal//NONSGML v1.0//EN
BEGIN:VEVENT
SUMMARY:Jean	"Cap Creus Dpt Pt Lligat"	8h	11 €	5h	15km	400m  Depuis Port Lligat jusqu'au Cap Creus et son phare par sentier cotier et garrigue puis retour par Ancien Club Med	**
UID:2f44157d-3376-43c7-951e-0d6e9aad7e58
DTSTART:20260402T060000Z
DTEND:20260402T220000Z
LOCATION:Localisation   
CATEGORIES:Sportif
STATUS:
URL;VALUE=URI:https://www.st-cyp-randos.fr/evenements/2026/04/02/jean-cap-creus-dpt-pt-lligat-8h-11-eur-5h-15km-400m-depuis-port-lligat-jusquau-cap-creus-et-son-phare-par-sentier-cotier-et-garrigue-puis-retour-par-ancien-club-med-2435171
END:VEVENT
END:VCALENDAR
