BEGIN:VCALENDAR
VERSION:2.0
PRODID:-//hacksw/handcal//NONSGML v1.0//EN
BEGIN:VEVENT
SUMMARY:CLAUDE  ANNULEE  METEO Les bergeries de la Couillade et Campeaux,5h,13km,510m,depart 8h,8euros.depart de Caudies
UID:6cb2ac4a-e8b1-461a-9c77-8686d073d883
DTSTART:20260305T070000Z
DTEND:20260305T230000Z
LOCATION:Localisation   
CATEGORIES:Sportif
STATUS:
URL;VALUE=URI:https://www.st-cyp-randos.fr/evenements/2026/03/05/claude-annulee-meteo-les-bergeries-de-la-couillade-et-campeaux5h13km510mdepart-8h8eurosdepart-de-caudies-2419045
END:VEVENT
END:VCALENDAR
